BEGIN:VCALENDAR
VERSION:2.0
PRODID:-//wp-events-plugin.com//7.2.3.1//EN
BEGIN:VEVENT
UID:13@slojd.nu
DTSTART;TZID=Europe/Stockholm;VALUE=DATE:20250616
DTEND;TZID=Europe/Stockholm;VALUE=DATE:20250618
DTSTAMP:20250316T145820Z
URL:https://slojd.nu/evenemang/fortbildning/
SUMMARY:Fortbildning - Slöjdlärarna.org
DESCRIPTION:I år är vi stolta sponsorer av den fortbildning föreningen 
 Slöjdlärarna.org anordnar tillsammans med Studieförbundet Vuxenskolan
ATTACH;FMTTYPE=image/jpeg:https://slojd.nu/wp-content/uploads/2025/03/fort
 bildningWP.jpg
END:VEVENT
BEGIN:VTIMEZONE
TZID:Europe/Stockholm
X-LIC-LOCATION:Europe/Stockholm
BEGIN:DAYLIGHT
DTSTART:20250330T030000
TZOFFSETFROM:+0100
TZOFFSETTO:+0200
TZNAME:CEST
END:DAYLIGHT
END:VTIMEZONE
END:VCALENDAR