BEGIN:VCALENDAR
VERSION:2.0
PRODID:-//wp-events-plugin.com//7.2.3.1//EN
BEGIN:VEVENT
UID:14@slojd.nu
DTSTART;TZID=Europe/Stockholm:20260410T093000
DTEND;TZID=Europe/Stockholm:20260410T151500
DTSTAMP:20260412T102658Z
URL:https://slojd.nu/evenemang/fortbildning-i-symaskinsunderhall/
SUMMARY:Fortbildning i symaskinsunderhåll
DESCRIPTION:Ge skolans symaskiner ett långt liv – och din undervisning n
 y energi!\nVälkommen till en praktisk fortbildningsdag där vi dyker ner 
 i både mekanik och pedagogik. Vi kombinerar djupgående symaskinsunderhå
 ll med en inspirerande föreläsning om kreativitet i slöjdsalen. \nUnder
  dagen går vi tillsammans med våra tekniker Adam och Mi igenom grundligt
  underhåll av Janomes symaskiner och hur du löser de vanligaste felen. M
 ålet är att du ska känna dig trygg med att ta hand om din skolas maskin
 er och kunna hantera de "akutfall" som ibland dyker upp i mitt under lekti
 on.\nTa gärna med maskiner från din egen slöjdsal att öva på\, eller 
 låna av våra på plats. Erfarenheten visar att vi lär oss bäst genom a
 tt skruva i mer än en maskin\, så det kommer att finnas gott om tid för
  praktisk träning!\nSchema för dagen\n09.30: Kaffe och introduktion\n10.
 00: Symaskinsservice del 1 – Grundläggande genomgång och övning\n11.0
 0: Symaskinsservice del 2 – Vanliga fel och praktisk felsökning\n12.00:
  Lunch\n13.00: Föreläsning med Andreas Krüger: Kreativitet och idéutve
 ckling i slöjdundervisningen\n14.30: Symaskinsservice del 3 – Fördjupn
 ing och specialfall\n15.00 – 15.15: Avslutning\n\nVarmt välkommen till 
 en dag fylld av praktisk kunskap och kollegialt utbyte!\n\nPlats: Hubertus
 gården\, Lund\nDag: 10 april\nKostnad: 2 600 kr ex moms\nSymaskinsteknike
 r och värdar för dagen: Mi Möller och Adam Åbjörnsson\n\nLunch och fi
 ka ingår.\n\nInför kursen får du en lista över vilka verktyg som är l
 ämpliga. Verktyg kommer finnas att köpa på plats.\n\nBegränsat antal p
 latser.\nVi förbehåller oss rätten att ställa in fortbildningen vid f
 ör lågt deltagarantal.
ATTACH;FMTTYPE=image/jpeg:https://slojd.nu/wp-content/uploads/2023/07/serv
 ice-skola-scaled.jpg
END:VEVENT
BEGIN:VTIMEZONE
TZID:Europe/Stockholm
X-LIC-LOCATION:Europe/Stockholm
BEGIN:DAYLIGHT
DTSTART:20260329T030000
TZOFFSETFROM:+0100
TZOFFSETTO:+0200
TZNAME:CEST
END:DAYLIGHT
END:VTIMEZONE
END:VCALENDAR